BEGIN:VCALENDAR
VERSION:2.0
PRODID:-//Missouri 811 - ECPv6.15.17.1//NONSGML v1.0//EN
CALSCALE:GREGORIAN
METHOD:PUBLISH
X-WR-CALNAME:Missouri 811
X-ORIGINAL-URL:https://missouri-811.org
X-WR-CALDESC:Events for Missouri 811
REFRESH-INTERVAL;VALUE=DURATION:PT1H
X-Robots-Tag:noindex
X-PUBLISHED-TTL:PT1H
BEGIN:VTIMEZONE
TZID:America/Chicago
BEGIN:DAYLIGHT
TZOFFSETFROM:-0600
TZOFFSETTO:-0500
TZNAME:CDT
DTSTART:20240310T080000
END:DAYLIGHT
BEGIN:STANDARD
TZOFFSETFROM:-0500
TZOFFSETTO:-0600
TZNAME:CST
DTSTART:20241103T070000
END:STANDARD
BEGIN:DAYLIGHT
TZOFFSETFROM:-0600
TZOFFSETTO:-0500
TZNAME:CDT
DTSTART:20250309T080000
END:DAYLIGHT
BEGIN:STANDARD
TZOFFSETFROM:-0500
TZOFFSETTO:-0600
TZNAME:CST
DTSTART:20251102T070000
END:STANDARD
BEGIN:DAYLIGHT
TZOFFSETFROM:-0600
TZOFFSETTO:-0500
TZNAME:CDT
DTSTART:20260308T080000
END:DAYLIGHT
BEGIN:STANDARD
TZOFFSETFROM:-0500
TZOFFSETTO:-0600
TZNAME:CST
DTSTART:20261101T070000
END:STANDARD
END:VTIMEZONE
BEGIN:VEVENT
DTSTART;TZID=America/Chicago:20250820T100000
DTEND;TZID=America/Chicago:20250820T120000
DTSTAMP:20260419T091037
CREATED:20250721T152451Z
LAST-MODIFIED:20250721T191433Z
UID:164546-1755684000-1755691200@missouri-811.org
SUMMARY:Missouri’s Underground Facility Law Changes – See how it Affects You
DESCRIPTION:Join Missouri 811 for an informative webinar focused on the significant changes due to Missouri’s Underground Facility Safety and Damage Prevention Act under Senate Bill 133\, which became effective on 7/14/2025. \nThis session will provide a practical breakdown of the new requirements and how they affect excavators\, utility owners\, locators\, and project designers. Key topics include: \n1. Expanded Definitions and New Terminology (§319.015)\n2. Excavation Notices Now Valid for 21 Consecutive Calendar Days (§319.025)\n3. Detectable Location Devices Required for New Facilities (§319.019)\n4. Enhanced Notice and Marking Requirements (§319.026)\n5. Clarified Design Request Rules (§319.027)\n6. Liability Clarifications (§319.034 & §319.035) \nWhether you are managing projects in the field or overseeing utility infrastructure\, this webinar will help you stay compliant\, minimize risk\, and fully understand the new expectations under SB 133.
URL:https://missouri-811.org/event/missouris-underground-facility-law-changes-see-how-it-affects-you-2/
CATEGORIES:Law Changes,Webinars
ATTACH;FMTTYPE=image/png:https://missouri-811.org/wp-content/uploads/2025/07/MO811_LawUpdates_Event.png
ORGANIZER;CN="Missouri 811":MAILTO:nrasa@missouri-811.org
LOCATION:https://teams.microsoft.com/l/meetup-join/19%3ameeting_N2I5OWRkNmQtOTNhOC00MTNlLTk5MzQtNjVlYzE0N2ZjZTRh%40thread.v2/0?context=%7b%22Tid%22%3a%22bb8eeb44-4172-49b9-aebb-1f0e03c3fa3b%22%2c%22Oid%22%3a%226cdec105-7a82-453a-a935-47485f495a1a%22%7d
END:VEVENT
END:VCALENDAR