BEGIN:VCALENDAR
VERSION:2.0
PRODID:-//Missouri 811 - ECPv6.15.17.1//NONSGML v1.0//EN
CALSCALE:GREGORIAN
METHOD:PUBLISH
X-WR-CALNAME:Missouri 811
X-ORIGINAL-URL:https://missouri-811.org
X-WR-CALDESC:Events for Missouri 811
REFRESH-INTERVAL;VALUE=DURATION:PT1H
X-Robots-Tag:noindex
X-PUBLISHED-TTL:PT1H
BEGIN:VTIMEZONE
TZID:America/Chicago
BEGIN:DAYLIGHT
TZOFFSETFROM:-0600
TZOFFSETTO:-0500
TZNAME:CDT
DTSTART:20220313T080000
END:DAYLIGHT
BEGIN:STANDARD
TZOFFSETFROM:-0500
TZOFFSETTO:-0600
TZNAME:CST
DTSTART:20221106T070000
END:STANDARD
BEGIN:DAYLIGHT
TZOFFSETFROM:-0600
TZOFFSETTO:-0500
TZNAME:CDT
DTSTART:20230312T080000
END:DAYLIGHT
BEGIN:STANDARD
TZOFFSETFROM:-0500
TZOFFSETTO:-0600
TZNAME:CST
DTSTART:20231105T070000
END:STANDARD
BEGIN:DAYLIGHT
TZOFFSETFROM:-0600
TZOFFSETTO:-0500
TZNAME:CDT
DTSTART:20240310T080000
END:DAYLIGHT
BEGIN:STANDARD
TZOFFSETFROM:-0500
TZOFFSETTO:-0600
TZNAME:CST
DTSTART:20241103T070000
END:STANDARD
BEGIN:DAYLIGHT
TZOFFSETFROM:-0600
TZOFFSETTO:-0500
TZNAME:CDT
DTSTART:20250309T080000
END:DAYLIGHT
BEGIN:STANDARD
TZOFFSETFROM:-0500
TZOFFSETTO:-0600
TZNAME:CST
DTSTART:20251102T070000
END:STANDARD
BEGIN:DAYLIGHT
TZOFFSETFROM:-0600
TZOFFSETTO:-0500
TZNAME:CDT
DTSTART:20260308T080000
END:DAYLIGHT
BEGIN:STANDARD
TZOFFSETFROM:-0500
TZOFFSETTO:-0600
TZNAME:CST
DTSTART:20261101T070000
END:STANDARD
BEGIN:DAYLIGHT
TZOFFSETFROM:-0600
TZOFFSETTO:-0500
TZNAME:CDT
DTSTART:20270314T080000
END:DAYLIGHT
BEGIN:STANDARD
TZOFFSETFROM:-0500
TZOFFSETTO:-0600
TZNAME:CST
DTSTART:20271107T070000
END:STANDARD
END:VTIMEZONE
BEGIN:VTIMEZONE
TZID:UTC
BEGIN:STANDARD
TZOFFSETFROM:+0000
TZOFFSETTO:+0000
TZNAME:UTC
DTSTART:20210101T000000
END:STANDARD
END:VTIMEZONE
BEGIN:VEVENT
DTSTART;TZID=America/Chicago:20260313T090000
DTEND;TZID=America/Chicago:20260313T120000
DTSTAMP:20260421T113028
CREATED:20260119T171415Z
LAST-MODIFIED:20260204T200158Z
UID:193304-1773392400-1773403200@missouri-811.org
SUMMARY:Operations Meeting - March 13\, 2026
DESCRIPTION:Experience the collaboration and shared expertise at the Missouri 811 Operations Meetings. Join the community of utility members and users as we come together to address operational issues\, share concerns\, and develop solutions for the benefit of all. Together\, we also strive to enhance Missouri 811’s damage prevention programs and promote a safer environment for all stakeholders. Be a part of the conversation and make your voice heard. \nTime and Location \nThe meeting begins at 9:00 a.m. and will be held at the Missouri SITE Association training room located at 2071 Exchange Drive\, St. Charles\, MO 63303. \nIf you’re unable to attend in person\, you may join virtually via Microsoft Teams meeting.
URL:https://missouri-811.org/event/operations-meeting-march-13-2026/
LOCATION:Missouri SITE Association – St. Charles\, 2071 Exchange Drive\, St. Charles\, MO\, 63303\, United States
CATEGORIES:Operations Meetings
ATTACH;FMTTYPE=image/png:https://missouri-811.org/wp-content/uploads/2023/06/Missouri811_OperationsMeetings.png
ORGANIZER;CN="Missouri 811":MAILTO:nrasa@missouri-811.org
END:VEVENT
BEGIN:VEVENT
DTSTART;TZID=America/Chicago:20251218T090000
DTEND;TZID=America/Chicago:20251218T120000
DTSTAMP:20260421T113028
CREATED:20250717T190825Z
LAST-MODIFIED:20260416T145007Z
UID:164528-1766048400-1766059200@missouri-811.org
SUMMARY:Operations Meeting - December 18\, 2025
DESCRIPTION:Experience the collaboration and shared expertise at the Missouri 811 Operations Meetings. Join the community of utility members and users as we come together to address operational issues\, share concerns\, and develop solutions for the benefit of all. Together\, we also strive to enhance Missouri 811’s damage prevention programs and promote a safer environment for all stakeholders. Be a part of the conversation and make your voice heard. \nTime and Location \nThe meeting begins at 9:00 a.m. and will be held at the Missouri 811 meeting room at 824 Weathered Rock Road\, Jefferson City\, MO 65101. \nIf you’re unable to attend in person\, you may join virtually via Microsoft Teams meeting.
URL:https://missouri-811.org/event/operations-meeting-december-18-2025/
LOCATION:Missouri 811\, 824 Weathered Rock Road\, Jefferson City\, MO\, 65101
CATEGORIES:Operations Meetings
ATTACH;FMTTYPE=image/png:https://missouri-811.org/wp-content/uploads/2023/06/Missouri811_OperationsMeetings.png
ORGANIZER;CN="Missouri 811":MAILTO:nrasa@missouri-811.org
END:VEVENT
BEGIN:VEVENT
DTSTART;TZID=America/Chicago:20250918T090000
DTEND;TZID=America/Chicago:20250918T120000
DTSTAMP:20260421T113028
CREATED:20250717T190105Z
LAST-MODIFIED:20250904T143413Z
UID:164516-1758186000-1758196800@missouri-811.org
SUMMARY:Operations Meeting - September 18\, 2025
DESCRIPTION:Experience the collaboration and shared expertise at the Missouri 811 Operations Meetings. Join the community of utility members and users as we come together to address operational issues\, share concerns\, and develop solutions for the benefit of all. Together\, we also strive to enhance Missouri 811’s damage prevention programs and promote a safer environment for all stakeholders. Be a part of the conversation and make your voice heard. \nTime and Location \nThe meeting begins at 9:00 a.m. and will be held at the City Utilities Training Room at 740 N Belcrest Avenue\, Springfield MO\, 65802. \nIf you’re unable to attend in person\, you may join virtually via Microsoft Teams meeting.
URL:https://missouri-811.org/event/operations-meeting-september-18-2025/
LOCATION:City Utilities\, 740 N Belcrest Avenue\, Springfield\, MO\, 65802\, United States
CATEGORIES:Operations Meetings
ATTACH;FMTTYPE=image/png:https://missouri-811.org/wp-content/uploads/2023/06/Missouri811_OperationsMeetings.png
ORGANIZER;CN="Missouri 811":MAILTO:nrasa@missouri-811.org
END:VEVENT
BEGIN:VEVENT
DTSTART;TZID=America/Chicago:20250612T090000
DTEND;TZID=America/Chicago:20250612T120000
DTSTAMP:20260421T113028
CREATED:20250303T211507Z
LAST-MODIFIED:20250303T211520Z
UID:163449-1749718800-1749729600@missouri-811.org
SUMMARY:Operations Meeting - June 12\, 2025
DESCRIPTION:Experience the collaboration and shared expertise at the Missouri 811 Operations Meetings. Join the community of utility members and users as we come together to address operational issues\, share concerns\, and develop solutions for the benefit of all. Together\, we also strive to enhance Missouri 811’s damage prevention programs and promote a safer environment for all stakeholders. Be a part of the conversation and make your voice heard. \nTime and Location \nThe meeting begins at 9:00 a.m. and will be held at the Missouri 811 meeting room at 824 Weathered Rock Road\, Jefferson City\, MO 65101. \nIf you’re unable to attend in person\, you may join virtually via Microsoft Teams meeting.
URL:https://missouri-811.org/event/operations-meeting-june-12-2025/
LOCATION:Missouri 811\, 824 Weathered Rock Road\, Jefferson City\, MO\, 65101
CATEGORIES:Operations Meetings,Utility Members
ATTACH;FMTTYPE=image/png:https://missouri-811.org/wp-content/uploads/2023/06/Missouri811_OperationsMeetings.png
ORGANIZER;CN="Missouri 811":MAILTO:nrasa@missouri-811.org
END:VEVENT
BEGIN:VEVENT
DTSTART;TZID=America/Chicago:20250320T090000
DTEND;TZID=America/Chicago:20250320T120000
DTSTAMP:20260421T113028
CREATED:20250303T205957Z
LAST-MODIFIED:20250303T210601Z
UID:163443-1742461200-1742472000@missouri-811.org
SUMMARY:Operations Meeting - March 20\, 2025
DESCRIPTION:Experience the collaboration and shared expertise at the Missouri 811 Operations Meetings. Join the community of utility members and users as we come together to address operational issues\, share concerns\, and develop solutions for the benefit of all. Together\, we also strive to enhance Missouri 811’s damage prevention programs and promote a safer environment for all stakeholders. Be a part of the conversation and make your voice heard. \nTime and Location \nThe meeting begins at 9:00 a.m. and will be held at the Missouri 811 meeting room at 824 Weathered Rock Road\, Jefferson City\, MO 65101. \nIf you’re unable to attend in person\, you may join virtually via Microsoft Teams meeting.
URL:https://missouri-811.org/event/operations-meeting-march-20-2025/
LOCATION:Missouri 811\, 824 Weathered Rock Road\, Jefferson City\, MO\, 65101
CATEGORIES:Operations Meetings,Utility Members
ATTACH;FMTTYPE=image/png:https://missouri-811.org/wp-content/uploads/2023/06/Missouri811_OperationsMeetings.png
ORGANIZER;CN="Missouri 811":MAILTO:nrasa@missouri-811.org
END:VEVENT
BEGIN:VEVENT
DTSTART;TZID=America/Chicago:20241219T090000
DTEND;TZID=America/Chicago:20241219T120000
DTSTAMP:20260421T113028
CREATED:20241121T230134Z
LAST-MODIFIED:20241126T215746Z
UID:161727-1734598800-1734609600@missouri-811.org
SUMMARY:Operations Meeting - December 19\, 2024
DESCRIPTION:Experience the collaboration and shared expertise at the Missouri 811 Operations Meetings. Join the community of utility members and users as we come together to address operational issues\, share concerns\, and develop solutions for the benefit of all. Together\, we also strive to enhance Missouri 811’s damage prevention programs and promote a safer environment for all stakeholders. Be a part of the conversation and make your voice heard. \nTime and Location \nThe meeting begins at 9:00 a.m. and will be held at the Missouri 811 meeting room at 824 Weathered Rock Road\, Jefferson City\, MO 65101. \nIf you’re unable to attend in person\, you may join virtually via Microsoft Teams meeting. \nJoin via Microsoft Teams \nMeeting ID: 251 689 439 002\nPasscode: JK7PX94L \nDial in by phone: +1 469-998-7683\,744556550#\nPhone Conference ID: 744 556 550# \nNeed Help?
URL:https://missouri-811.org/event/operations-meeting-december-19-2024/
LOCATION:Missouri 811\, 824 Weathered Rock Road\, Jefferson City\, MO\, 65101
CATEGORIES:Operations Meetings
ATTACH;FMTTYPE=image/png:https://missouri-811.org/wp-content/uploads/2023/06/Missouri811_OperationsMeetings.png
ORGANIZER;CN="Missouri 811":MAILTO:nrasa@missouri-811.org
END:VEVENT
BEGIN:VEVENT
DTSTART;TZID=UTC:20240919T090000
DTEND;TZID=UTC:20240919T120000
DTSTAMP:20260421T113028
CREATED:20240830T194044Z
LAST-MODIFIED:20240903T184617Z
UID:161324-1726736400-1726747200@missouri-811.org
SUMMARY:Operations Meeting - September 19\, 2024
DESCRIPTION:Experience the collaboration and shared expertise at the Missouri 811 Operations Meetings. Join the community of utility members and users as we come together to address operational issues\, share concerns\, and develop solutions for the benefit of all. Together\, we also strive to enhance Missouri 811’s damage prevention programs and promote a safer environment for all stakeholders. Be a part of the conversation and make your voice heard. \nTime and Location \nThe meeting begins at 9:00 a.m. and will be held at the Missouri 811 meeting room at 824 Weathered Rock Road\, Jefferson City\, MO 65101. \nIf you’re unable to attend in person\, you may join virtually via Microsoft Teams meeting. \n\nJoin on your computer\, mobile app or room device\nClick here to join the meeting \n\nMeeting ID: 276 152 223 54\nPasscode: abkXbS\n  \nDownload Teams | Join on the web\n\n\nOr call in (audio only)\n+1 469-998-7683\,\,854092683#  United States\, Dallas\n\nPhone Conference ID: 854 092 683# \nFind a local number | Reset PIN\nLearn More
URL:https://missouri-811.org/event/operations-meeting-september-19-2024/
LOCATION:Missouri 811\, 824 Weathered Rock Road\, Jefferson City\, MO\, 65101
CATEGORIES:Operations Meetings
ATTACH;FMTTYPE=image/png:https://missouri-811.org/wp-content/uploads/2023/06/Missouri811_OperationsMeetings.png
ORGANIZER;CN="Missouri 811":MAILTO:nrasa@missouri-811.org
END:VEVENT
BEGIN:VEVENT
DTSTART;TZID=UTC:20240620T090000
DTEND;TZID=UTC:20240620T120000
DTSTAMP:20260421T113028
CREATED:20240529T005213Z
LAST-MODIFIED:20240529T010210Z
UID:160960-1718874000-1718884800@missouri-811.org
SUMMARY:Operations Meeting - June 20\, 2024
DESCRIPTION:Experience the collaboration and shared expertise at the Missouri 811 Operations Meetings. Join the community of utility members and users as we come together to address operational issues\, share concerns\, and develop solutions for the benefit of all. Together\, we also strive to enhance Missouri 811’s damage prevention programs and promote a safer environment for all stakeholders. Be a part of the conversation and make your voice heard. \nTime and Location \nThe meeting begins at 9:00 a.m. and will be held at the Washington City Hall\, in the Council Chambers at 405 Jefferson St.\, Washington MO\, 63090. \nIf you’re unable to attend in person\, you may join virtually via Microsoft Teams meeting. \nMicrosoft Teams (Need help?) \nJoin the meeting now \n(https://teams.microsoft.com/l/meetup-join/19%3ameeting_NDE0YzZkNTMtMGE3Zi00YTAxLTlmYWQtNGRmOGFjZDRhNGZk%40thread.v2/0?context=%7b%22Tid%22%3a%22bb8eeb44-4172-49b9-aebb-1f0e03c3fa3b%22%2c%22Oid%22%3a%22bc05df74-d5c0-4f06-915f-e0ffc5ced6b6%22%7d)\nMeeting ID: 222 450 461 941\nPasscode: 4bv5bZ \nDial in by phone\n+1 469-998-7683\,\,923412990# \nPhone conference ID: 923 412 990#
URL:https://missouri-811.org/event/operations-meeting-june-20-2024/
LOCATION:Washington City Hall\, 405 Jefferson St\, Washington\, MO\, 63090\, United States
CATEGORIES:Operations Meetings
ATTACH;FMTTYPE=image/png:https://missouri-811.org/wp-content/uploads/2023/06/Missouri811_OperationsMeetings.png
ORGANIZER;CN="Missouri 811":MAILTO:nrasa@missouri-811.org
END:VEVENT
BEGIN:VEVENT
DTSTART;TZID=UTC:20240321T090000
DTEND;TZID=UTC:20240321T120000
DTSTAMP:20260421T113028
CREATED:20240302T031424Z
LAST-MODIFIED:20240302T033509Z
UID:160529-1711011600-1711022400@missouri-811.org
SUMMARY:Operations Meeting - March 21\, 2024
DESCRIPTION:Experience the collaboration and shared expertise at the Missouri 811 Operations Meetings. Join the community of utility members and users as we come together to address operational issues\, share concerns\, and develop solutions for the benefit of all. Together\, we also strive to enhance Missouri 811’s damage prevention programs and promote a safer environment for all stakeholders. Be a part of the conversation and make your voice heard. \nTime and Location\nMeeting begins at 9:00 a.m. and will be held at the Missouri 811 meeting room at 824 Weathered Rock Road\, Jefferson City\, MO 65101. \nIf you’re unable to attend in person\, you may join virtually viaMicrosoft Teams meeting \n\nJoin on your computer\, mobile app or room device\nClick here to join the meeting \n\n\n Meeting ID: 253 220 777 275 Passcode: xYY87c \n  \n Download Teams | Join on the web\n\n\n\nOr call in (audio only)\n+1 469-998-7683\,\,955297381#  United States\, Dallas\n\nPhone Conference ID: 955 297 381# \nFind a local number |  Reset PIN\nLearn More
URL:https://missouri-811.org/event/operations-meeting-march-21-2024/
LOCATION:Missouri 811\, 824 Weathered Rock Road\, Jefferson City\, MO\, 65101
CATEGORIES:Operations Meetings,Utility Members
ATTACH;FMTTYPE=image/png:https://missouri-811.org/wp-content/uploads/2023/06/Missouri811_OperationsMeetings.png
ORGANIZER;CN="Missouri 811":MAILTO:nrasa@missouri-811.org
END:VEVENT
BEGIN:VEVENT
DTSTART;TZID=UTC:20231214T093000
DTEND;TZID=UTC:20231214T120000
DTSTAMP:20260421T113028
CREATED:20230112T235259Z
LAST-MODIFIED:20231214T022001Z
UID:156612-1702546200-1702555200@missouri-811.org
SUMMARY:Operations Meeting
DESCRIPTION:The Missouri 811 Operations Meetings shall allow the membership and users to provide input on operational issues\, concerns and solutions for consideration\, as well as develop and promote Missouri 811’s damage prevention programs. \nWe will be holding the Operations Meeting monthly for the remainder of 2023 in order to provide for conversation regarding legislative talking points plus any other operational ideas to be brought forth. \nTime and Location\nAll meetings begin at 9:30 a.m. and are held at the Missouri 811 meeting room at 824 Weathered Rock Road\, Jefferson City\, MO 65101.\nFeel free to join online or via call: \n\n\nMicrosoft Teams meeting\n\nJoin on your computer\, mobile app or room device\nClick here to join the meeting\n\nMeeting ID: 278 118 563 390 \nPasscode: Rart6k \nDownload Teams |  Join on the web\n\n\n\nOr call in (audio only)\n+1 469-998-7683\,\,405519536#  United States\, Dallas\n\nPhone Conference ID: 405 519 536# \nFind a local number |  Reset PIN\nLearn More |  Meeting options
URL:https://missouri-811.org/event/operations-meeting-dec-2023/
LOCATION:Missouri 811\, 824 Weathered Rock Road\, Jefferson City\, MO\, 65101
CATEGORIES:Operations Meetings
ATTACH;FMTTYPE=image/png:https://missouri-811.org/wp-content/uploads/2023/06/Missouri811_OperationsMeetings.png
ORGANIZER;CN="Missouri 811":MAILTO:nrasa@missouri-811.org
END:VEVENT
BEGIN:VEVENT
DTSTART;TZID=America/Chicago:20230921T093000
DTEND;TZID=America/Chicago:20230921T120000
DTSTAMP:20260421T113028
CREATED:20230112T235001Z
LAST-MODIFIED:20230706T013910Z
UID:156609-1695288600-1695297600@missouri-811.org
SUMMARY:Operations Meeting
DESCRIPTION:The Missouri 811 Operations Meetings shall allow the membership and users to provide input on operational issues\, concerns and solutions for consideration\, as well as develop and promote Missouri 811’s damage prevention programs. \nWe will be holding the Operations Meeting monthly for the remainder of 2023 in order to provide for conversation regarding legislative talking points plus any other operational ideas to be brought forth. \nTime and Location\nAll meetings begin at 9:30 a.m. and are held at the Missouri 811 meeting room at 824 Weathered Rock Road\, Jefferson City\, MO 65101.
URL:https://missouri-811.org/event/operations-meeting-sept-2023/
LOCATION:Missouri 811\, 824 Weathered Rock Road\, Jefferson City\, MO\, 65101
CATEGORIES:Operations Meetings
ATTACH;FMTTYPE=image/png:https://missouri-811.org/wp-content/uploads/2023/06/Missouri811_OperationsMeetings.png
ORGANIZER;CN="Missouri 811":MAILTO:nrasa@missouri-811.org
END:VEVENT
BEGIN:VEVENT
DTSTART;TZID=UTC:20230817T093000
DTEND;TZID=UTC:20230817T120000
DTSTAMP:20260421T113028
CREATED:20230706T013124Z
LAST-MODIFIED:20230706T013124Z
UID:157672-1692264600-1692273600@missouri-811.org
SUMMARY:Operations Meeting
DESCRIPTION:The Missouri 811 Operations Meetings shall allow the membership and users to provide input on operational issues\, concerns and solutions for consideration\, as well as develop and promote Missouri 811’s damage prevention programs. \nWe will be holding the Operations Meeting monthly for the remainder of 2023 in order to provide for conversation regarding legislative talking points plus any other operational ideas to be brought forth. \nTime and Location\nAll meetings begin at 9:30 a.m. and are held at the Missouri 811 meeting room at 824 Weathered Rock Road\, Jefferson City\, MO 65101.
URL:https://missouri-811.org/event/operations-meeting-2/
LOCATION:Missouri 811\, 824 Weathered Rock Road\, Jefferson City\, MO\, 65101
CATEGORIES:Operations Meetings,Utility Members
ATTACH;FMTTYPE=image/png:https://missouri-811.org/wp-content/uploads/2023/06/Missouri811_OperationsMeetings.png
ORGANIZER;CN="Missouri 811":MAILTO:nrasa@missouri-811.org
END:VEVENT
BEGIN:VEVENT
DTSTART;TZID=UTC:20230720T093000
DTEND;TZID=UTC:20230720T120000
DTSTAMP:20260421T113028
CREATED:20230706T012350Z
LAST-MODIFIED:20230706T012350Z
UID:157670-1689845400-1689854400@missouri-811.org
SUMMARY:Operations Meeting
DESCRIPTION:The Missouri 811 Operations Meetings shall allow the membership and users to provide input on operational issues\, concerns and solutions for consideration\, as well as develop and promote Missouri 811’s damage prevention programs. \nWe will be holding the Operations Meeting monthly for the remainder of 2023 in order to provide for conversation regarding legislative talking points plus any other operational ideas to be brought forth. \nTime and Location\nAll meetings begin at 9:30 a.m. and are held at the Missouri 811 meeting room at 824 Weathered Rock Road\, Jefferson City\, MO 65101.
URL:https://missouri-811.org/event/operations-meeting/
LOCATION:Missouri 811\, 824 Weathered Rock Road\, Jefferson City\, MO\, 65101
CATEGORIES:Operations Meetings,Utility Members
ATTACH;FMTTYPE=image/png:https://missouri-811.org/wp-content/uploads/2023/06/Missouri811_OperationsMeetings.png
ORGANIZER;CN="Missouri 811":MAILTO:nrasa@missouri-811.org
END:VEVENT
BEGIN:VEVENT
DTSTART;TZID=America/Chicago:20230615T093000
DTEND;TZID=America/Chicago:20230615T120000
DTSTAMP:20260421T113028
CREATED:20230112T234851Z
LAST-MODIFIED:20230602T024258Z
UID:156607-1686821400-1686830400@missouri-811.org
SUMMARY:Operations Meeting
DESCRIPTION:The Missouri 811 Operations Meetings shall allow the membership to provide input on operational issues\, concerns and solutions for consideration\, as well as develop and promote Missouri 811’s damage prevention programs.\nThe meetings are held quarterly to discuss any issues relating to the one-call system and to make policy recommendations to Missouri 811. Anyone interested in issues relating to the one-call system is invited to attend. \nTime and Location\nAll meetings begin at 9:30 a.m. and are held at the Missouri 811 meeting room at 824 Weathered Rock Road\, Jefferson City\, MO 65101.
URL:https://missouri-811.org/event/operations-meeting-june-2023/
LOCATION:Missouri 811\, 824 Weathered Rock Road\, Jefferson City\, MO\, 65101
CATEGORIES:Operations Meetings
ATTACH;FMTTYPE=image/png:https://missouri-811.org/wp-content/uploads/2023/06/Missouri811_OperationsMeetings.png
ORGANIZER;CN="Missouri 811":MAILTO:nrasa@missouri-811.org
END:VEVENT
BEGIN:VEVENT
DTSTART;TZID=America/Chicago:20230316T093000
DTEND;TZID=America/Chicago:20230316T120000
DTSTAMP:20260421T113028
CREATED:20230112T234642Z
LAST-MODIFIED:20230602T024329Z
UID:156605-1678959000-1678968000@missouri-811.org
SUMMARY:Operations Meeting
DESCRIPTION:
URL:https://missouri-811.org/event/operations-meeting-march-2023/
LOCATION:MO
CATEGORIES:Operations Meetings
ATTACH;FMTTYPE=image/png:https://missouri-811.org/wp-content/uploads/2023/06/Missouri811_OperationsMeetings.png
ORGANIZER;CN="Missouri 811":MAILTO:nrasa@missouri-811.org
END:VEVENT
BEGIN:VEVENT
DTSTART;TZID=UTC:20221215T093000
DTEND;TZID=UTC:20221215T113000
DTSTAMP:20260421T113028
CREATED:20221215T024217Z
LAST-MODIFIED:20230602T011509Z
UID:124880-1671096600-1671103800@missouri-811.org
SUMMARY:Operations Meeting Information
DESCRIPTION:The Missouri 811 Operations Meetings shall allow the membership to provide input on operational issues\, concerns and solutions for consideration\, as well as develop and promote Missouri 811’s damage prevention programs. \nThe meetings are held quarterly to discuss any issues relating to the one-call system and to make policy recommendations to Missouri 811. Anyone interested in issues relating to the one-call system is invited to attend. \nTime and Location\nAll meetings begin at 9:30 a.m. and are held at the Missouri 811 meeting room at 824 Weathered Rock Road\, Jefferson City\, MO 65101. \n  \n2022 Meeting Dates\n\n\nMarch 17\nJune 16\nSeptember 15\nDecember 15
URL:https://missouri-811.org/event/operating-committee-meeting-information/
LOCATION:Missouri 811\, 824 Weathered Rock Road\, Jefferson City\, MO\, 65101
CATEGORIES:Operations Meetings
ORGANIZER;CN="Missouri 811":MAILTO:nrasa@missouri-811.org
END:VEVENT
END:VCALENDAR