BEGIN:VCALENDAR
VERSION:2.0
PRODID:-//Missouri 811 - ECPv6.15.17.1//NONSGML v1.0//EN
CALSCALE:GREGORIAN
METHOD:PUBLISH
X-ORIGINAL-URL:https://missouri-811.org
X-WR-CALDESC:Events for Missouri 811
REFRESH-INTERVAL;VALUE=DURATION:PT1H
X-Robots-Tag:noindex
X-PUBLISHED-TTL:PT1H
BEGIN:VTIMEZONE
TZID:America/Chicago
BEGIN:DAYLIGHT
TZOFFSETFROM:-0600
TZOFFSETTO:-0500
TZNAME:CDT
DTSTART:20240310T080000
END:DAYLIGHT
BEGIN:STANDARD
TZOFFSETFROM:-0500
TZOFFSETTO:-0600
TZNAME:CST
DTSTART:20241103T070000
END:STANDARD
BEGIN:DAYLIGHT
TZOFFSETFROM:-0600
TZOFFSETTO:-0500
TZNAME:CDT
DTSTART:20250309T080000
END:DAYLIGHT
BEGIN:STANDARD
TZOFFSETFROM:-0500
TZOFFSETTO:-0600
TZNAME:CST
DTSTART:20251102T070000
END:STANDARD
BEGIN:DAYLIGHT
TZOFFSETFROM:-0600
TZOFFSETTO:-0500
TZNAME:CDT
DTSTART:20260308T080000
END:DAYLIGHT
BEGIN:STANDARD
TZOFFSETFROM:-0500
TZOFFSETTO:-0600
TZNAME:CST
DTSTART:20261101T070000
END:STANDARD
END:VTIMEZONE
BEGIN:VTIMEZONE
TZID:America/Chicago
BEGIN:DAYLIGHT
TZOFFSETFROM:-0600
TZOFFSETTO:-0500
TZNAME:CDT
DTSTART:20240310T080000
END:DAYLIGHT
BEGIN:STANDARD
TZOFFSETFROM:-0500
TZOFFSETTO:-0600
TZNAME:CST
DTSTART:20241103T070000
END:STANDARD
BEGIN:DAYLIGHT
TZOFFSETFROM:-0600
TZOFFSETTO:-0500
TZNAME:CDT
DTSTART:20250309T080000
END:DAYLIGHT
BEGIN:STANDARD
TZOFFSETFROM:-0500
TZOFFSETTO:-0600
TZNAME:CST
DTSTART:20251102T070000
END:STANDARD
BEGIN:DAYLIGHT
TZOFFSETFROM:-0600
TZOFFSETTO:-0500
TZNAME:CDT
DTSTART:20260308T080000
END:DAYLIGHT
BEGIN:STANDARD
TZOFFSETFROM:-0500
TZOFFSETTO:-0600
TZNAME:CST
DTSTART:20261101T070000
END:STANDARD
END:VTIMEZONE
BEGIN:VTIMEZONE
TZID:UTC
BEGIN:STANDARD
TZOFFSETFROM:+0000
TZOFFSETTO:+0000
TZNAME:UTC
DTSTART:20230101T000000
END:STANDARD
END:VTIMEZONE
BEGIN:VEVENT
DTSTART;TZID=America/Chicago:20250319T080000
DTEND;TZID=America/Chicago:20250319T120000
DTSTAMP:20260423T033253
CREATED:20241216T203653Z
LAST-MODIFIED:20250318T204006Z
UID:161925-1742371200-1742385600@missouri-811.org
SUMMARY:Utility Locator Training - Bowling Green\, MO
DESCRIPTION:Missouri 811 would like to invite our utility members to take part in FREE locator training. We realize that locator training is something many utilities and municipalities in the state could use. Missouri 811 would like to offer this back to our membership.  \nJeff Trowbridge will conduct the training with Subsurface Solutions. Jeff has 20+ years of experience in the locating industry\, and his training offers classroom style for locator theory\, as well as outdoor hands-on training.  \nYou are encouraged to bring your own locate equipment so the hands-on training is specific to your needs. If you can’t bring your own equipment there will be a few extra sets of locate equipment to train with.  \nMissouri 811’s Member Operations Manager\, Sarah Galbraith\, and your local Damage Prevention Manager will also be on-site to answer any questions you may have regarding your membership\, notifications\, positive response\, the system\, and more. So feel free to stop in even if you do not need locator training!  \nBowling Green\, MO\nMarch 19\, 2025\n8:00am-12:00pm \nMeeting to start at 8:00 a.m.\nAttendance is often limited per location. Please register below to reserve your place. 
URL:https://missouri-811.org/event/utility-locator-training-bowling-green-mo/
LOCATION:Bowling Green Library & Community Center\, 201 W Locust St\, Bowling Green\, MO\, 63334\, United States
CATEGORIES:Locator Trainings
ATTACH;FMTTYPE=image/png:https://missouri-811.org/wp-content/uploads/2024/12/Missouri811_UtilityLocatorTraining2.png
ORGANIZER;CN="Missouri 811":MAILTO:nrasa@missouri-811.org
END:VEVENT
BEGIN:VEVENT
DTSTART;TZID=America/Chicago:20250318T080000
DTEND;TZID=America/Chicago:20250318T120000
DTSTAMP:20260423T033253
CREATED:20241219T005042Z
LAST-MODIFIED:20250312T220730Z
UID:162024-1742284800-1742299200@missouri-811.org
SUMMARY:Utility Locator Training - Kirksville\, MO
DESCRIPTION:Missouri 811 would like to invite our utility members to take part in FREE locator training. We realize that locator training is something many utilities and municipalities in the state could use. Missouri 811 would like to offer this back to our membership. \nJeff Trowbridge will conduct the training with Subsurface Solutions. Jeff has 20+ years of experience in the locating industry\, and his training offers classroom style for locator theory\, as well as outdoor hands-on training. \nYou are encouraged to bring your own locate equipment so the hands-on training is specific to your needs. If you can’t bring your own equipment there will be a few extra sets of locate equipment to train with. \nMissouri 811’s Member Operations Manager\, Sarah Galbraith\, and your local Damage Prevention Manager will also be on-site to answer any questions you may have regarding your membership\, notifications\, positive response\, the system\, and more. So feel free to stop in even if you do not need locator training! \nKirksville\, MO\nMarch 18\, 2025\n(rescheduled from Feb 12 snow day)\n8:00am-12:00pm \nMeeting to start at 8:00 a.m.\nAttendance is often limited per location. Please register below to reserve your place.
URL:https://missouri-811.org/event/utility-locator-training-kirksville-mo/
LOCATION:Moose Lodge – Kirksville\, 2405 E Illinois St\, Kirksville\, MO\, 63501\, United States
CATEGORIES:Locator Trainings
ATTACH;FMTTYPE=image/png:https://missouri-811.org/wp-content/uploads/2023/12/Missouri811_UtilityLocatorTraining.png
ORGANIZER;CN="Missouri 811":MAILTO:nrasa@missouri-811.org
END:VEVENT
BEGIN:VEVENT
DTSTART;TZID=America/Chicago:20250130T080000
DTEND;TZID=America/Chicago:20250130T120000
DTSTAMP:20260423T033253
CREATED:20241213T012321Z
LAST-MODIFIED:20241213T012321Z
UID:161895-1738224000-1738238400@missouri-811.org
SUMMARY:Utility Locator Training - Sikeston\, MO
DESCRIPTION:Missouri 811 would like to invite our utility members to take part in FREE locator training. We realize that locator training is something many utilities and municipalities in the state could use. Missouri 811 would like to offer this back to our membership. \nJeff Trowbridge will conduct the training with Subsurface Solutions. Jeff has 20+ years of experience in the locating industry\, and his training offers classroom style for locator theory\, as well as outdoor hands-on training. \nYou are encouraged to bring your own locate equipment so the hands-on training is specific to your needs. If you can’t bring your own equipment there will be a few extra sets of locate equipment to train with. \nMissouri 811’s Member Operations Manager\, Sarah Galbraith\, and your local Damage Prevention Manager will also be on-site to answer any questions you may have regarding your membership\, notifications\, positive response\, the system\, and more. So feel free to stop in even if you do not need locator training! \nSikeston\, MO\nJanuary 30\, 2025\n8:00am-12:00pm \nMeeting to start at 8:00 a.m.\nAttendance is often limited per location. Please register below to reserve your place. \n  \n 
URL:https://missouri-811.org/event/utility-locator-training-sikeston-mo/
LOCATION:Clinton Building\, 501 Campanella Dr.\, Sikeston\, MO\, 63801\, United States
CATEGORIES:Locator Trainings
ATTACH;FMTTYPE=image/png:https://missouri-811.org/wp-content/uploads/2023/12/Missouri811_UtilityLocatorTraining.png
ORGANIZER;CN="Missouri 811":MAILTO:nrasa@missouri-811.org
END:VEVENT
BEGIN:VEVENT
DTSTART;TZID=UTC:20241218T080000
DTEND;TZID=UTC:20241218T120000
DTSTAMP:20260423T033253
CREATED:20231229T214746Z
LAST-MODIFIED:20240203T040852Z
UID:159316-1734508800-1734523200@missouri-811.org
SUMMARY:Utility Locator Training - Chillicothe\, MO
DESCRIPTION:Missouri 811 would like to invite our utility members to take part in FREE locator training. We realize that locator training is something many utilities and municipalities in the state could use. Missouri 811 would like to offer this back to our membership. \nJeff Trowbridge will conduct the training with Subsurface Solutions. Jeff has 20+ years of experience in the locating industry\, and his training offers classroom style for locator theory\, as well as outdoor hands-on training. \nYou are encouraged to bring your own locate equipment so the hands-on training is specific to your needs. If you can’t bring your own equipment there will be a few extra sets of locate equipment to train with. \nMissouri 811’s Member Operations Manager\, Sarah Galbraith\, and your local Damage Prevention Manager will also be on-site to answer any questions you may have regarding your membership\, notifications\, positive response\, the system\, and more. So feel free to stop in even if you do not need locator training! \nChillicothe\, MO\nWednesday\, December 18\, 2024\n8:00am-12:00pm\n\nMeeting to start at 8:00 a.m.\nAttendance is often limited per location. Please register below to reserve your place.
URL:https://missouri-811.org/event/utility-locator-training-chillicothe-mo/
LOCATION:Chillicothe Municipal Utility\, 920 Washington St\, Chillicothe\, MO\, 64601\, United States
CATEGORIES:Locator Trainings
ATTACH;FMTTYPE=image/png:https://missouri-811.org/wp-content/uploads/2023/12/Missouri811_UtilityLocatorTraining.png
ORGANIZER;CN="Missouri 811":MAILTO:nrasa@missouri-811.org
END:VEVENT
BEGIN:VEVENT
DTSTART;TZID=UTC:20241113T080000
DTEND;TZID=UTC:20241113T120000
DTSTAMP:20260423T033253
CREATED:20231229T214505Z
LAST-MODIFIED:20240109T212139Z
UID:159312-1731484800-1731499200@missouri-811.org
SUMMARY:Utility Locator Training - Independence\, MO
DESCRIPTION:Missouri 811 would like to invite our utility members to take part in FREE locator training. We realize that locator training is something many utilities and municipalities in the state could use. Missouri 811 would like to offer this back to our membership. \nJeff Trowbridge will conduct the training with Subsurface Solutions. Jeff has 20+ years of experience in the locating industry\, and his training offers classroom style for locator theory\, as well as outdoor hands-on training. \nYou are encouraged to bring your own locate equipment so the hands-on training is specific to your needs. If you can’t bring your own equipment there will be a few extra sets of locate equipment to train with. \nMissouri 811’s Member Operations Manager\, Sarah Galbraith\, and your local Damage Prevention Manager will also be on-site to answer any questions you may have regarding your membership\, notifications\, positive response\, the system\, and more. So feel free to stop in even if you do not need locator training! \nIndependence\, MO\nWednesday\, November 13\, 2024\n8:00am-12:00pm\n\nMeeting to start at 8:00 a.m.\nAttendance is often limited per location. Please register below to reserve your place.
URL:https://missouri-811.org/event/utility-locator-training-independence-mo/
LOCATION:Midwest Public Risk\, 19400 E Valley View Pkwy\, Independence\, 64055\, United States
CATEGORIES:Locator Trainings
ATTACH;FMTTYPE=image/png:https://missouri-811.org/wp-content/uploads/2023/12/Missouri811_UtilityLocatorTraining.png
ORGANIZER;CN="Missouri 811":MAILTO:nrasa@missouri-811.org
END:VEVENT
BEGIN:VEVENT
DTSTART;TZID=UTC:20241009T080000
DTEND;TZID=UTC:20241009T120000
DTSTAMP:20260423T033253
CREATED:20231229T043851Z
LAST-MODIFIED:20240213T030407Z
UID:159288-1728460800-1728475200@missouri-811.org
SUMMARY:Utility Locator Training - Nevada\, MO
DESCRIPTION:Missouri 811 would like to invite our utility members to take part in FREE locator training. We realize that locator training is something many utilities and municipalities in the state could use. Missouri 811 would like to offer this back to our membership. \nJeff Trowbridge will conduct the training with Subsurface Solutions. Jeff has 20+ years of experience in the locating industry\, and his training offers classroom style for locator theory\, as well as outdoor hands-on training. \nYou are encouraged to bring your own locate equipment so the hands-on training is specific to your needs. If you can’t bring your own equipment there will be a few extra sets of locate equipment to train with. \nMissouri 811’s Member Operations Manager\, Sarah Galbraith\, and your local Damage Prevention Manager will also be on-site to answer any questions you may have regarding your membership\, notifications\, positive response\, the system\, and more. So feel free to stop in even if you do not need locator training! \nNevada\, MO\nWednesday\, October 9\, 2024\n8:00am-12:00pm\n\nMeeting to start at 8:00 a.m.\nAttendance is often limited per location. Please register below to reserve your place.
URL:https://missouri-811.org/event/utility-locator-training-nevada-mo/
LOCATION:Holiday inn Express – Nevada\, 311 Johnson Dr\, Nevada\, 64772\, United States
CATEGORIES:Locator Trainings
ATTACH;FMTTYPE=image/png:https://missouri-811.org/wp-content/uploads/2023/12/Missouri811_UtilityLocatorTraining.png
ORGANIZER;CN="Missouri 811":MAILTO:nrasa@missouri-811.org
END:VEVENT
BEGIN:VEVENT
DTSTART;TZID=UTC:20240918T080000
DTEND;TZID=UTC:20240918T120000
DTSTAMP:20260423T033253
CREATED:20231229T043722Z
LAST-MODIFIED:20240203T040649Z
UID:159284-1726646400-1726660800@missouri-811.org
SUMMARY:Utility Locator Training - St. Joseph\, MO
DESCRIPTION:Missouri 811 would like to invite our utility members to take part in FREE locator training. We realize that locator training is something many utilities and municipalities in the state could use. Missouri 811 would like to offer this back to our membership. \nJeff Trowbridge will conduct the training with Subsurface Solutions. Jeff has 20+ years of experience in the locating industry\, and his training offers classroom style for locator theory\, as well as outdoor hands-on training. \nYou are encouraged to bring your own locate equipment so the hands-on training is specific to your needs. If you can’t bring your own equipment there will be a few extra sets of locate equipment to train with. \nMissouri 811’s Member Operations Manager\, Sarah Galbraith\, and your local Damage Prevention Manager will also be on-site to answer any questions you may have regarding your membership\, notifications\, positive response\, the system\, and more. So feel free to stop in even if you do not need locator training! \nSt. Joseph\, MO\nWednesday\, September 18\, 2024\n8:00am-12:00pm\n\nMeeting to start at 8:00 a.m.\nAttendance is often limited per location. Please register below to reserve your place.
URL:https://missouri-811.org/event/utility-locator-training-st-joseph-mo/
LOCATION:Stoney Creek Hotel-St. Joseph\, 1201 N Woodbine Rd\, St. Joseph\, MO\, 64506\, United States
CATEGORIES:Locator Trainings
ATTACH;FMTTYPE=image/png:https://missouri-811.org/wp-content/uploads/2023/12/Missouri811_UtilityLocatorTraining.png
ORGANIZER;CN="Missouri 811":MAILTO:nrasa@missouri-811.org
END:VEVENT
BEGIN:VEVENT
DTSTART;TZID=UTC:20240807T080000
DTEND;TZID=UTC:20240807T120000
DTSTAMP:20260423T033253
CREATED:20231229T043503Z
LAST-MODIFIED:20240701T215248Z
UID:159280-1723017600-1723032000@missouri-811.org
SUMMARY:Utility Locator Training - St. Robert\, MO
DESCRIPTION:Missouri 811 would like to invite our utility members to take part in FREE locator training. We realize that locator training is something many utilities and municipalities in the state could use. Missouri 811 would like to offer this back to our membership. \nJeff Trowbridge will conduct the training with Subsurface Solutions. Jeff has 20+ years of experience in the locating industry\, and his training offers classroom style for locator theory\, as well as outdoor hands-on training. \nYou are encouraged to bring your own locate equipment so the hands-on training is specific to your needs. If you can’t bring your own equipment there will be a few extra sets of locate equipment to train with. \nMissouri 811’s Member Operations Manager\, Sarah Galbraith\, and your local Damage Prevention Manager will also be on-site to answer any questions you may have regarding your membership\, notifications\, positive response\, the system\, and more. So feel free to stop in even if you do not need locator training! \nSt. Robert\, MO\nWednesday\, August 7\, 2024\n8:00am-12:00pm\n\nMeeting to start at 8:00 a.m.\nAttendance is often limited per location. Please register below to reserve your place.
URL:https://missouri-811.org/event/utility-locator-training-st-robert-mo/
LOCATION:St. Robert Municipal Center\, 194 Eastlawn Ave\, Suite A\, Saint Robert\, MO\, United States
CATEGORIES:Locator Trainings
ATTACH;FMTTYPE=image/png:https://missouri-811.org/wp-content/uploads/2023/12/Missouri811_UtilityLocatorTraining.png
ORGANIZER;CN="Missouri 811":MAILTO:nrasa@missouri-811.org
END:VEVENT
BEGIN:VEVENT
DTSTART;TZID=UTC:20240710T080000
DTEND;TZID=UTC:20240710T120000
DTSTAMP:20260423T033253
CREATED:20231229T042858Z
LAST-MODIFIED:20240524T015846Z
UID:159276-1720598400-1720612800@missouri-811.org
SUMMARY:Utility Locator Training - St. Charles\, MO
DESCRIPTION:Missouri 811 would like to invite our utility members to take part in FREE locator training. We realize that locator training is something many utilities and municipalities in the state could use. Missouri 811 would like to offer this back to our membership. \nJeff Trowbridge will conduct the training with Subsurface Solutions. Jeff has 20+ years of experience in the locating industry\, and his training offers classroom style for locator theory\, as well as outdoor hands-on training. \nYou are encouraged to bring your own locate equipment so the hands-on training is specific to your needs. If you can’t bring your own equipment there will be a few extra sets of locate equipment to train with. \nMissouri 811’s Member Operations Manager\, Sarah Galbraith\, and your local Damage Prevention Manager will also be on-site to answer any questions you may have regarding your membership\, notifications\, positive response\, the system\, and more. So feel free to stop in even if you do not need locator training! \nSt. Charles\, MO\nWednesday\, July 10\, 2024\n8:00am-12:00pm\n\nMeeting to start at 8:00 a.m.\nAttendance is often limited per location. Please register below to reserve your place.
URL:https://missouri-811.org/event/utility-locator-training-st-charles-mo/
LOCATION:St. Peters’ Justice Center\, 1020 Grand Teton Dr\, St. Peters\, MO\, 63376\, United States
CATEGORIES:Locator Trainings
ATTACH;FMTTYPE=image/png:https://missouri-811.org/wp-content/uploads/2023/12/Missouri811_UtilityLocatorTraining.png
ORGANIZER;CN="Missouri 811":MAILTO:nrasa@missouri-811.org
END:VEVENT
BEGIN:VEVENT
DTSTART;TZID=UTC:20240605T080000
DTEND;TZID=UTC:20240605T120000
DTSTAMP:20260423T033253
CREATED:20231229T042715Z
LAST-MODIFIED:20240203T040236Z
UID:159273-1717574400-1717588800@missouri-811.org
SUMMARY:Utility Locator Training - Cape Girardeau\, MO
DESCRIPTION:Missouri 811 would like to invite our utility members to take part in FREE locator training. We realize that locator training is something many utilities and municipalities in the state could use. Missouri 811 would like to offer this back to our membership. \nJeff Trowbridge will conduct the training with Subsurface Solutions. Jeff has 20+ years of experience in the locating industry\, and his training offers classroom style for locator theory\, as well as outdoor hands-on training. \nYou are encouraged to bring your own locate equipment so the hands-on training is specific to your needs. If you can’t bring your own equipment there will be a few extra sets of locate equipment to train with. \nMissouri 811’s Member Operations Manager\, Sarah Galbraith\, and your local Damage Prevention Manager will also be on-site to answer any questions you may have regarding your membership\, notifications\, positive response\, the system\, and more. So feel free to stop in even if you do not need locator training! \nCape Girardeau\, MO\nWednesday\, June 5\, 2024\n8:00am-12:00pm\n\nMeeting to start at 8:00 a.m.\nAttendance is often limited per location. Please register below to reserve your place.
URL:https://missouri-811.org/event/utility-locator-training-cape-girardeau-mo/
LOCATION:Osage Community Center\, 1625 N Kingshighway St\, Cape Girardeau\, MO\, 63701\, United States
CATEGORIES:Locator Trainings
ATTACH;FMTTYPE=image/png:https://missouri-811.org/wp-content/uploads/2023/12/Missouri811_UtilityLocatorTraining.png
ORGANIZER;CN="Missouri 811":MAILTO:nrasa@missouri-811.org
END:VEVENT
BEGIN:VEVENT
DTSTART;TZID=UTC:20240508T080000
DTEND;TZID=UTC:20240508T120000
DTSTAMP:20260423T033253
CREATED:20231229T042437Z
LAST-MODIFIED:20240213T030643Z
UID:159270-1715155200-1715169600@missouri-811.org
SUMMARY:Utility Locator Training - Springfield\, MO
DESCRIPTION:Missouri 811 would like to invite our utility members to take part in FREE locator training. We realize that locator training is something many utilities and municipalities in the state could use. Missouri 811 would like to offer this back to our membership. \nJeff Trowbridge will conduct the training with Subsurface Solutions. Jeff has 20+ years of experience in the locating industry\, and his training offers classroom style for locator theory\, as well as outdoor hands-on training. \nYou are encouraged to bring your own locate equipment so the hands-on training is specific to your needs. If you can’t bring your own equipment there will be a few extra sets of locate equipment to train with. \nMissouri 811’s Member Operations Manager\, Sarah Galbraith\, and your local Damage Prevention Manager will also be on-site to answer any questions you may have regarding your membership\, notifications\, positive response\, the system\, and more. So feel free to stop in even if you do not need locator training! \nSpringfield\, MO\nWednesday\, May 8\, 2024\n8:00am-12:00pm\n\nMeeting to start at 8:00 a.m.\nAttendance is often limited per location. Please register below to reserve your place.
URL:https://missouri-811.org/event/utility-member-training-springfield-mo/
LOCATION:Veteran Resell Store – Suite 6\, 3335 W Sunshine\, Springfield\, MO\, 65807\, United States
CATEGORIES:Locator Trainings
ATTACH;FMTTYPE=image/png:https://missouri-811.org/wp-content/uploads/2023/12/Missouri811_UtilityLocatorTraining.png
ORGANIZER;CN="Missouri 811":MAILTO:nrasa@missouri-811.org
END:VEVENT
BEGIN:VEVENT
DTSTART;TZID=UTC:20240403T080000
DTEND;TZID=UTC:20240403T120000
DTSTAMP:20260423T033253
CREATED:20231229T042011Z
LAST-MODIFIED:20240312T213350Z
UID:159266-1712131200-1712145600@missouri-811.org
SUMMARY:Utility Locator Training - Carrollton\, MO
DESCRIPTION:Missouri 811 would like to invite our utility members to take part in FREE locator training. We realize that locator training is something many utilities and municipalities in the state could use. Missouri 811 would like to offer this back to our membership. \nJeff Trowbridge will conduct the training with Subsurface Solutions. Jeff has 20+ years of experience in the locating industry\, and his training offers classroom style for locator theory\, as well as outdoor hands-on training. \nYou are encouraged to bring your own locate equipment so the hands-on training is specific to your needs. If you can’t bring your own equipment there will be a few extra sets of locate equipment to train with. \nMissouri 811’s Member Operations Manager\, Sarah Galbraith\, and your local Damage Prevention Manager will also be on-site to answer any questions you may have regarding your membership\, notifications\, positive response\, the system\, and more. So feel free to stop in even if you do not need locator training! \nCarrollton\, MO\nWednesday\, April 3\, 2024\n8:00am-12:00pm\n\nMeeting to start at 8:00 a.m.\nAttendance is often limited per location. Please register below to reserve your place.
URL:https://missouri-811.org/event/utility-member-training-carrollton-mo/
LOCATION:Rupe Center\, 710 Harvest Hills Drive\, Carrollton\, MO\, 64633\, United States
CATEGORIES:Locator Trainings
ATTACH;FMTTYPE=image/png:https://missouri-811.org/wp-content/uploads/2023/12/Missouri811_UtilityLocatorTraining.png
ORGANIZER;CN="Missouri 811":MAILTO:nrasa@missouri-811.org
END:VEVENT
BEGIN:VEVENT
DTSTART;TZID=UTC:20240306T080000
DTEND;TZID=UTC:20240306T120000
DTSTAMP:20260423T033253
CREATED:20231229T041717Z
LAST-MODIFIED:20240203T035948Z
UID:159263-1709712000-1709726400@missouri-811.org
SUMMARY:Utility Locator Training - Hannibal\, MO
DESCRIPTION:Missouri 811 would like to invite our utility members to take part in FREE locator training. We realize that locator training is something many utilities and municipalities in the state could use. Missouri 811 would like to offer this back to our membership. \nJeff Trowbridge will conduct the training with Subsurface Solutions. Jeff has 20+ years of experience in the locating industry\, and his training offers classroom style for locator theory\, as well as outdoor hands-on training. \nYou are encouraged to bring your own locate equipment so the hands-on training is specific to your needs. If you can’t bring your own equipment there will be a few extra sets of locate equipment to train with. \nMissouri 811’s Member Operations Manager\, Sarah Galbraith\, and your local Damage Prevention Manager will also be on-site to answer any questions you may have regarding your membership\, notifications\, positive response\, the system\, and more. So feel free to stop in even if you do not need locator training! \nHannibal\, MO\nWednesday\, March 6\, 2024\n8:00am-12:00pm\n\nMeeting to start at 8:00 a.m.\nAttendance is often limited per location. Please register below to reserve your place.
URL:https://missouri-811.org/event/utility-locator-training-hannibal-mo/
LOCATION:Quality Inn & Suites – Hannibal\, 120 Lindsey Dr.\, Hannibal\, MO\, 63401\, United States
CATEGORIES:Locator Trainings
ATTACH;FMTTYPE=image/png:https://missouri-811.org/wp-content/uploads/2023/12/Missouri811_UtilityLocatorTraining.png
ORGANIZER;CN="Missouri 811":MAILTO:nrasa@missouri-811.org
END:VEVENT
BEGIN:VEVENT
DTSTART;TZID=UTC:20240207T080000
DTEND;TZID=UTC:20240207T120000
DTSTAMP:20260423T033253
CREATED:20231229T041516Z
LAST-MODIFIED:20240109T212347Z
UID:159260-1707292800-1707307200@missouri-811.org
SUMMARY:Utility Locator Training - Moberly\, MO
DESCRIPTION:Missouri 811 would like to invite our utility members to take part in FREE locator training. We realize that locator training is something many utilities and municipalities in the state could use. Missouri 811 would like to offer this back to our membership. \nJeff Trowbridge will conduct the training with Subsurface Solutions. Jeff has 20+ years of experience in the locating industry\, and his training offers classroom style for locator theory\, as well as outdoor hands-on training. \nYou are encouraged to bring your own locate equipment so the hands-on training is specific to your needs. If you can’t bring your own equipment there will be a few extra sets of locate equipment to train with. \nMissouri 811’s Member Operations Manager\, Sarah Galbraith\, and your local Damage Prevention Manager will also be on-site to answer any questions you may have regarding your membership\, notifications\, positive response\, the system\, and more. So feel free to stop in even if you do not need locator training! \nMoberly\, MO\nWednesday\, February 7\, 2024\n8:00am-12:00pm\n\nMeeting to start at 8:00 a.m.\nAttendance is often limited per location. Please register below to reserve your place.
URL:https://missouri-811.org/event/utility-locator-training-moberly-mo/
LOCATION:The Lodge\, 109 Rothwell Park Rd\, Moberly\, MO\, 65270\, United States
CATEGORIES:Locator Trainings
ATTACH;FMTTYPE=image/png:https://missouri-811.org/wp-content/uploads/2023/12/Missouri811_UtilityLocatorTraining.png
ORGANIZER;CN="Missouri 811":MAILTO:nrasa@missouri-811.org
END:VEVENT
BEGIN:VEVENT
DTSTART;TZID=UTC:20240110T080000
DTEND;TZID=UTC:20240110T120000
DTSTAMP:20260423T033253
CREATED:20231229T041033Z
LAST-MODIFIED:20231230T020414Z
UID:159253-1704873600-1704888000@missouri-811.org
SUMMARY:Utility Locator Training - Kennett\, MO
DESCRIPTION:Missouri 811 would like to invite our utility members to take part in FREE locator training. We realize that locator training is something many utilities and municipalities in the state could use. Missouri 811 would like to offer this back to our membership. \nJeff Trowbridge will conduct the training with Subsurface Solutions. Jeff has 20+ years of experience in the locating industry\, and his training offers classroom style for locator theory\, as well as outdoor hands-on training. \nYou are encouraged to bring your own locate equipment so the hands-on training is specific to your needs. If you can’t bring your own equipment there will be a few extra sets of locate equipment to train with. \nMissouri 811’s Member Operations Manager\, Sarah Galbraith\, and your local Damage Prevention Manager will also be on-site to answer any questions you may have regarding your membership\, notifications\, positive response\, the system\, and more. So feel free to stop in even if you do not need locator training! \nKennett\, MO\nWednesday\, January 10\, 2024\n8:00am-12:00pm\n\nMeeting to start at 8:00 a.m.\nAttendance is often limited per location. Please register below to reserve your place.
URL:https://missouri-811.org/event/utility-locator-training-kennett-mo/
LOCATION:Kennett Public Works – IT Barn\, 205 Carey St\, Kennett\, MO\, 63857\, United States
CATEGORIES:Locator Trainings
ATTACH;FMTTYPE=image/png:https://missouri-811.org/wp-content/uploads/2023/12/Missouri811_UtilityLocatorTraining.png
ORGANIZER;CN="Missouri 811":MAILTO:nrasa@missouri-811.org
END:VEVENT
END:VCALENDAR