BEGIN:VCALENDAR
VERSION:2.0
PRODID:-//Missouri 811 - ECPv6.15.17.1//NONSGML v1.0//EN
CALSCALE:GREGORIAN
METHOD:PUBLISH
X-WR-CALNAME:Missouri 811
X-ORIGINAL-URL:https://missouri-811.org
X-WR-CALDESC:Events for Missouri 811
REFRESH-INTERVAL;VALUE=DURATION:PT1H
X-Robots-Tag:noindex
X-PUBLISHED-TTL:PT1H
BEGIN:VTIMEZONE
TZID:UTC
BEGIN:STANDARD
TZOFFSETFROM:+0000
TZOFFSETTO:+0000
TZNAME:UTC
DTSTART:20220101T000000
END:STANDARD
END:VTIMEZONE
BEGIN:VEVENT
DTSTART;TZID=UTC:20230427T080000
DTEND;TZID=UTC:20230427T100000
DTSTAMP:20260419T133714
CREATED:20230328T231903Z
LAST-MODIFIED:20230328T231912Z
UID:157108-1682582400-1682589600@missouri-811.org
SUMMARY:Excavator Safety Meeting: Liberty\, MO
DESCRIPTION:Grab your crew and join the Missouri 811 Damage Prevention Team as they address some of the hot topics related to the One Call law and excavation practices. Content will focus on both utility and excavator responsibilities and will provide some clarity to some of the most frequently asked questions. Additionally\, we’ll go over the tools and web products that Missouri 811 provides to help make your job easier. \nLiberty\, MOThursday\, April 27\, 20238:00am-10:00am\nCheck-in and breakfast at 7:30 a.m. with the meeting to follow at 8:00 a.m.Attendance is limited to 80. Please register below to reserve your place. \n			\n			\n				\n				\n				\n				\n			\n				\n				\n				\n				\n				\n				\n				\n				\n				\n				\n				\n\n			\n			\n				\n				\n				\n				\n			\n				\n				\n				\n				\n				\n				\n				Meet Your Damage Prevention Team\n			\n			\n				\n				\n				\n				\n				\n				Request Customized Training
URL:https://missouri-811.org/event/excavator-safety-meeting-liberty-mo/
LOCATION:Our Lady of Mercy Country Home – Liberty MO\, 2115 Maturana Dr\, Liberty\, MO\, 64068\, United States
CATEGORIES:Excavator Safety Meetings
ATTACH;FMTTYPE=image/png:https://missouri-811.org/wp-content/uploads/2023/02/Missouri811_ExcavatorSafetyMeetings.png
ORGANIZER;CN="Missouri 811":MAILTO:nrasa@missouri-811.org
END:VEVENT
BEGIN:VEVENT
DTSTART;TZID=UTC:20230426T080000
DTEND;TZID=UTC:20230426T223000
DTSTAMP:20260419T133714
CREATED:20230403T223746Z
LAST-MODIFIED:20231114T022826Z
UID:157135-1682496000-1682548200@missouri-811.org
SUMMARY:Excavator Safety Meeting: Washington\, MO
DESCRIPTION:Grab your crew and join the Missouri 811 Damage Prevention Team as they address some of the hot topics related to the One Call law and excavation practices. Content will focus on both utility and excavator responsibilities and will provide some clarity to some of the most frequently asked questions. Additionally\, we’ll go over the tools and web products that Missouri 811 provides to help make your job easier. \nWashington\, MOWednesday\, April 26\, 20238:30am-10:30am\nCheck-in and breakfast at 7:30 a.m. with the meeting to follow at 8:30 a.m.Attendance is limited to 80. Please register below to reserve your place. \n			\n			\n				\n				\n				\n				\n			\n				\n				\n				\n				\n				\n				\n				\n				\n				\n				\n				\n\n			\n			\n				\n				\n				\n				\n			\n				\n				\n				\n				\n				\n				\n				Meet Your Damage Prevention Team\n			\n			\n				\n				\n				\n				\n				\n				Request Customized Training
URL:https://missouri-811.org/event/excavator-safety-meeting-washington-mo/
LOCATION:Knights of Columbus – Washington\, 1121 Columbus Ln\, Washington\, MO\, 63090\, United States
CATEGORIES:Excavator Safety Meetings
ATTACH;FMTTYPE=image/png:https://missouri-811.org/wp-content/uploads/2023/02/Missouri811_ExcavatorSafetyMeetings.png
ORGANIZER;CN="Missouri 811":MAILTO:nrasa@missouri-811.org
END:VEVENT
BEGIN:VEVENT
DTSTART;TZID=UTC:20230418T080000
DTEND;TZID=UTC:20230418T100000
DTSTAMP:20260419T133714
CREATED:20230328T035719Z
LAST-MODIFIED:20230328T232308Z
UID:157092-1681804800-1681812000@missouri-811.org
SUMMARY:Excavator Safety Meeting: Festus\, MO
DESCRIPTION:Grab your crew and join the Missouri 811 Damage Prevention Team as they address some of the hot topics related to the One Call law and excavation practices. Content will focus on both utility and excavator responsibilities and will provide some clarity to some of the most frequently asked questions. Additionally\, we’ll go over the tools and web products that Missouri 811 provides to help make your job easier. \nFestus\, MOTuesday\, April 18\, 20238:30am-10:00am\nCheck-in and breakfast at 7:30 a.m. with the meeting to follow at 8:30 a.m.Attendance is limited to 80. Please register below to reserve your place. \n			\n			\n				\n				\n				\n				\n			\n				\n				\n				\n				\n				\n				\n				\n				\n				\n				\n				\n\n			\n			\n				\n				\n				\n				\n			\n				\n				\n				\n				\n				\n				\n				Meet Your Damage Prevention Team\n			\n			\n				\n				\n				\n				\n				\n				Request Customized Training
URL:https://missouri-811.org/event/excavator-safety-meeting-festus-mo/
LOCATION:Quality Inn Festus\, 1200 W. Gannon Drive\, Festus\, MO\, 63028\, United States
CATEGORIES:Excavator Safety Meetings
ATTACH;FMTTYPE=image/png:https://missouri-811.org/wp-content/uploads/2023/02/Missouri811_ExcavatorSafetyMeetings.png
ORGANIZER;CN="Missouri 811":MAILTO:nrasa@missouri-811.org
END:VEVENT
BEGIN:VEVENT
DTSTART;TZID=UTC:20230418T073000
DTEND;TZID=UTC:20230418T093000
DTSTAMP:20260419T133714
CREATED:20230322T013720Z
LAST-MODIFIED:20230322T014402Z
UID:157028-1681803000-1681810200@missouri-811.org
SUMMARY:Excavator Safety Meeting: Bethany\, MO
DESCRIPTION:Grab your crew and join the Missouri 811 Damage Prevention Team as they address some of the hot topics related to the One Call law and excavation practices. Content will focus on both utility and excavator responsibilities and will provide some clarity to some of the most frequently asked questions. Additionally\, we’ll go over the tools and web products that Missouri 811 provides to help make your job easier. \nBethany\, MOTuesday\, April 18\, 20237:30am-9:30am\nCheck-in and breakfast at 7:30 a.m. with the meeting to follow at 8:00 a.m.Attendance is often limited per location. Please register below to reserve your place. \n			\n			\n				\n				\n				\n				\n			\n				\n				\n				\n				\n				\n				\n				\n				\n				\n				\n				\n\n			\n			\n				\n				\n				\n				\n			\n				\n				\n				\n				\n				\n				\n				Meet Your Damage Prevention Team\n			\n			\n				\n				\n				\n				\n				\n				Request Customized Training
URL:https://missouri-811.org/event/excavator-safety-meeting-bethany-mo/
LOCATION:TootToots\, 2905 Miller St\, Bethany\, MO\, 64424\, United States
CATEGORIES:Excavator Safety Meetings
ATTACH;FMTTYPE=image/png:https://missouri-811.org/wp-content/uploads/2023/02/Missouri811_ExcavatorSafetyMeetings.png
ORGANIZER;CN="Missouri 811":MAILTO:nrasa@missouri-811.org
END:VEVENT
BEGIN:VEVENT
DTSTART;TZID=UTC:20230413T080000
DTEND;TZID=UTC:20230413T220000
DTSTAMP:20260419T133714
CREATED:20230311T032055Z
LAST-MODIFIED:20230311T032321Z
UID:156939-1681372800-1681423200@missouri-811.org
SUMMARY:Excavator Safety Meeting: St. Joseph\, MO
DESCRIPTION:Grab your crew and join the Missouri 811 Damage Prevention Team as they address some of the hot topics related to the One Call law and excavation practices. Content will focus on both utility and excavator responsibilities and will provide some clarity to some of the most frequently asked questions. Additionally\, we’ll go over the tools and web products that Missouri 811 provides to help make your job easier. \nSt Joseph\, MOThursday\, April 13\, 20238:00am-10:00am\nCheck-in and breakfast at 7:30 a.m. with the meeting to follow at 8:00 a.m.Attendance is often limited per location. Please register below to reserve your place. \n			\n			\n				\n				\n				\n				\n			\n				\n				\n				\n				\n				\n				\n				\n				\n				\n				\n				\n\n			\n			\n				\n				\n				\n				\n			\n				\n				\n				\n				\n				\n				\n				Meet Your Damage Prevention Team\n			\n			\n				\n				\n				\n				\n				\n				Request Customized Training
URL:https://missouri-811.org/event/excavator-safety-meeting-st-joseph-mo/
LOCATION:Stoney Creek Hotel – St. Joseph\, 1201 N Woodbine Rd\, St Joseph\, MO\, 64506\, United States
CATEGORIES:Excavator Safety Meetings
ATTACH;FMTTYPE=image/png:https://missouri-811.org/wp-content/uploads/2023/02/Missouri811_ExcavatorSafetyMeetings.png
ORGANIZER;CN="Missouri 811":MAILTO:nrasa@missouri-811.org
END:VEVENT
BEGIN:VEVENT
DTSTART;TZID=UTC:20230322T080000
DTEND;TZID=UTC:20230322T100000
DTSTAMP:20260419T133714
CREATED:20230217T234037Z
LAST-MODIFIED:20230224T084838Z
UID:156825-1679472000-1679479200@missouri-811.org
SUMMARY:Excavator Safety Meeting: Cape Girardeau\, MO
DESCRIPTION:Grab your crew and join the Missouri 811 Damage Prevention Team as they address some of the hot topics related to the One Call law and excavation practices. Content will focus on both utility and excavator responsibilities and will provide some clarity to some of the most frequently asked questions. Additionally\, we’ll go over the tools and web products that Missouri 811 provides to help make your job easier. \nCape Girardeau\, MOWednesday\, March 22\, 20238:00am-10:00am\nCheck-in and breakfast at 7:30 a.m. with the meeting to follow at 8:00 a.m.Attendance is often limited per location. Please register below to reserve your place. \n			\n			\n				\n				\n				\n				\n			\n				\n				\n				\n				\n				\n				\n				\n				\n				\n				\n				\n\n			\n			\n				\n				\n				\n				\n			\n				\n				\n				\n				\n				\n				\n				Meet Your Damage Prevention Team\n			\n			\n				\n				\n				\n				\n				\n				Request Customized Training
URL:https://missouri-811.org/event/excavator-safety-cape-girardeau/
LOCATION:Osage Centre\, 1625 N. Kingshighway\, Cape Girardeau\, MO\, 63701\, United States
CATEGORIES:Excavator Safety Meetings
ATTACH;FMTTYPE=image/png:https://missouri-811.org/wp-content/uploads/2023/02/Missouri811_ExcavatorSafetyMeetings.png
ORGANIZER;CN="Missouri 811":MAILTO:nrasa@missouri-811.org
END:VEVENT
BEGIN:VEVENT
DTSTART;TZID=UTC:20230321T080000
DTEND;TZID=UTC:20230321T100000
DTSTAMP:20260419T133714
CREATED:20230217T233227Z
LAST-MODIFIED:20230308T232243Z
UID:156812-1679385600-1679392800@missouri-811.org
SUMMARY:Excavator Safety Meeting: St. Louis\, MO
DESCRIPTION:Grab your crew and join the Missouri 811 Damage Prevention Team as they address some of the hot topics related to the One Call law and excavation practices. Content will focus on both utility and excavator responsibilities and will provide some clarity to some of the most frequently asked questions. Additionally\, we’ll go over the tools and web products that Missouri 811 provides to help make your job easier. \nSt. Louis\, MOTuesday\, March 21\, 20238:00am-10:00am\nCheck-in and breakfast at 7:30 a.m. with the meeting to follow at 8:00 a.m.Attendance is often limited per location. Please register below to reserve your place. \n			\n			\n				\n				\n				\n				\n			\n				\n				\n				\n				\n				\n				\n				\n				\n				\n				\n				Registration for this event is full. \n			\n			\n				\n				\n				\n				\n			\n				\n				\n				\n				\n				\n				\n				Meet Your Damage Prevention Team\n			\n			\n				\n				\n				\n				\n				\n				Request Customized Training
URL:https://missouri-811.org/event/excavator-safety-st-louis/
LOCATION:Orlando’s Event Center\, 4300 Hoffmeister Ave.\, St. Louis\, MO\, 63125\, United States
CATEGORIES:Excavator Safety Meetings
ATTACH;FMTTYPE=image/png:https://missouri-811.org/wp-content/uploads/2023/02/Missouri811_ExcavatorSafetyMeetings.png
ORGANIZER;CN="Missouri 811":MAILTO:nrasa@missouri-811.org
END:VEVENT
BEGIN:VEVENT
DTSTART;TZID=UTC:20230316T080000
DTEND;TZID=UTC:20230316T100000
DTSTAMP:20260419T133714
CREATED:20230217T231356Z
LAST-MODIFIED:20230217T233310Z
UID:156802-1678953600-1678960800@missouri-811.org
SUMMARY:Excavator Safety Meeting: Columbia\, MO
DESCRIPTION:Grab your crew and join the Missouri 811 Damage Prevention Team as they address some of the hot topics related to the One Call law and excavation practices. Content will focus on both utility and excavator responsibilities and will provide some clarity to some of the most frequently asked questions. Additionally\, we’ll go over the tools and web products that Missouri 811 provides to help make your job easier. \nColumbia\, MOThursday\, March 16\, 20238:00am-10:00am\nCheck-in and breakfast at 7:30 a.m. with the meeting to follow at 8:00 a.m.Attendance is often limited per location. Please register below to reserve your place. \n			\n			\n				\n				\n				\n				\n			\n				\n				\n				\n				\n				\n				\n				\n				\n				\n				\n				\n\n			\n			\n				\n				\n				\n				\n			\n				\n				\n				\n				\n				\n				\n				Meet Your Damage Prevention Team\n			\n			\n				\n				\n				\n				\n				\n				Request Customized Training
URL:https://missouri-811.org/event/excavator-safety-columbia/
LOCATION:Stoney Creek Hotel-Columbia\, 2601 S Providence Rd\, Columbia\, MO\, 65203\, United States
CATEGORIES:Excavator Safety Meetings
ATTACH;FMTTYPE=image/png:https://missouri-811.org/wp-content/uploads/2023/02/Missouri811_ExcavatorSafetyMeetings.png
ORGANIZER;CN="Missouri 811":MAILTO:nrasa@missouri-811.org
END:VEVENT
BEGIN:VEVENT
DTSTART;TZID=UTC:20230315T080000
DTEND;TZID=UTC:20230315T100000
DTSTAMP:20260419T133714
CREATED:20230217T230111Z
LAST-MODIFIED:20230217T233335Z
UID:156791-1678867200-1678874400@missouri-811.org
SUMMARY:Excavator Safety Meeting: Springfield\, MO
DESCRIPTION:Grab your crew and join the Missouri 811 Damage Prevention Team as they address some of the hot topics related to the One Call law and excavation practices. Content will focus on both utility and excavator responsibilities and will provide some clarity to some of the most frequently asked questions. Additionally\, we’ll go over the tools and web products that Missouri 811 provides to help make your job easier. \nSpringfield\, MOWednesday\, March 15\, 20238:00am-10:00am\nCheck-in and breakfast at 7:30 a.m. with the meeting to follow at 8:00 a.m.Attendance is often limited per location. Please register below to reserve your place. \n			\n			\n				\n				\n				\n				\n			\n				\n				\n				\n				\n				\n				\n				\n				\n				\n				\n				\n\n			\n			\n				\n				\n				\n				\n			\n				\n				\n				\n				\n				\n				\n				Meet Your Damage Prevention Team\n			\n			\n				\n				\n				\n				\n				\n				Request Customized Training
URL:https://missouri-811.org/event/excavator-safety-springfield/
LOCATION:Oasis Hotel & Convention Center\, 2550 N Glenstone Ave\, Springfield\, MO\, MO\, 65803\, United States
CATEGORIES:Excavator Safety Meetings
ATTACH;FMTTYPE=image/png:https://missouri-811.org/wp-content/uploads/2023/02/Missouri811_ExcavatorSafetyMeetings.png
ORGANIZER;CN="Missouri 811":MAILTO:nrasa@missouri-811.org
END:VEVENT
BEGIN:VEVENT
DTSTART;TZID=UTC:20230314T083000
DTEND;TZID=UTC:20230314T103000
DTSTAMP:20260419T133714
CREATED:20230217T214641Z
LAST-MODIFIED:20230311T034357Z
UID:156771-1678782600-1678789800@missouri-811.org
SUMMARY:Excavator Safety Meeting: Independence\, MO
DESCRIPTION:Grab your crew and join the Missouri 811 Damage Prevention Team as they address some of the hot topics related to the One Call law and excavation practices. Content will focus on both utility and excavator responsibilities and will provide some clarity to some of the most frequently asked questions. Additionally\, we’ll go over the tools and web products that Missouri 811 provides to help make your job easier. \nIndependence\, MOTuesday\, March 14\, 20238:30am-10:30am\nCheck-in and breakfast at 8 a.m. with the meeting to follow at 8:30 a.m.Attendance is often limited per location. Please register below to reserve your place. \n			\n			\n				\n				\n				\n				\n			\n				\n				\n				\n				\n				\n				\n				\n				\n				\n				\n				Registration for this event is full. \n			\n			\n				\n				\n				\n				\n			\n				\n				\n				\n				\n				\n				\n				Meet Your Damage Prevention Team\n			\n			\n				\n				\n				\n				\n				\n				Request Customized Training
URL:https://missouri-811.org/event/excavator-safety-independence/
LOCATION:Stoney Creek Hotel-Independence\, 18011 Bass Pro Drive\, Independence\, MO\, 64055\, United States
CATEGORIES:Excavator Safety Meetings
ATTACH;FMTTYPE=image/png:https://missouri-811.org/wp-content/uploads/2023/02/Missouri811_ExcavatorSafetyMeetings.png
ORGANIZER;CN="Missouri 811":MAILTO:nrasa@missouri-811.org
END:VEVENT
END:VCALENDAR